Package: scAnnotatR Version: 1.13.0 Command: rm -rf scAnnotatR.buildbin-libdir && mkdir scAnnotatR.buildbin-libdir && /Users/biocbuild/BBS/utils/build-universal.sh scAnnotatR_1.13.0.tar.gz /Library/Frameworks/R.framework/Resources/bin/R scAnnotatR.buildbin-libdir StartedAt: 2025-02-20 22:33:54 -0500 (Thu, 20 Feb 2025) EndedAt: 2025-02-20 22:34:14 -0500 (Thu, 20 Feb 2025) EllapsedTime: 20.4 seconds RetCode: 0 Status: OK PackageFile: scAnnotatR_1.13.0.tgz PackageFileSize: 1.033 MiB