Package: satuRn Version: 1.15.0 Command: /Library/Frameworks/R.framework/Resources/bin/R CMD INSTALL satuRn StartedAt: 2025-02-19 15:21:55 -0500 (Wed, 19 Feb 2025) EndedAt: 2025-02-19 15:22:29 -0500 (Wed, 19 Feb 2025) EllapsedTime: 33.6 seconds RetCode: 0 Status: OK