Package: satuRn Version: 1.15.0 Command: /Library/Frameworks/R.framework/Resources/bin/R CMD build --keep-empty-dirs --no-resave-data satuRn StartedAt: 2025-02-20 18:06:04 -0500 (Thu, 20 Feb 2025) EndedAt: 2025-02-20 18:07:36 -0500 (Thu, 20 Feb 2025) EllapsedTime: 92.2 seconds RetCode: 0 Status: OK PackageFile: satuRn_1.15.0.tar.gz PackageFileSize: 3.695 MiB