Package: satuRn Version: 1.15.0 Command: rm -rf satuRn.buildbin-libdir && mkdir satuRn.buildbin-libdir && /Users/biocbuild/BBS/utils/build-universal.sh satuRn_1.15.0.tar.gz /Library/Frameworks/R.framework/Resources/bin/R satuRn.buildbin-libdir StartedAt: 2025-02-20 00:52:25 -0500 (Thu, 20 Feb 2025) EndedAt: 2025-02-20 00:53:02 -0500 (Thu, 20 Feb 2025) EllapsedTime: 36.8 seconds RetCode: 0 Status: OK PackageFile: satuRn_1.15.0.tgz PackageFileSize: 3.747 MiB