Package: satuRn Version: 1.15.0 Command: /home/biocbuild/R/R/bin/R CMD build --keep-empty-dirs --no-resave-data satuRn StartedAt: 2025-01-29 01:57:38 -0000 (Wed, 29 Jan 2025) EndedAt: 2025-01-29 01:59:29 -0000 (Wed, 29 Jan 2025) EllapsedTime: 111.1 seconds RetCode: 0 Status: OK PackageFile: satuRn_1.15.0.tar.gz PackageFileSize: 3.27 MiB