Package: saseR Version: 1.3.0 Command: E:\biocbuild\bbs-3.21-bioc\R\bin\R.exe CMD INSTALL saseR StartedAt: 2025-02-20 16:40:31 -0500 (Thu, 20 Feb 2025) EndedAt: 2025-02-20 16:41:58 -0500 (Thu, 20 Feb 2025) EllapsedTime: 87.2 seconds RetCode: 0 Status: OK