Package: saseR Version: 1.3.0 Command: /home/biocbuild/bbs-3.21-bioc/R/bin/R CMD check --install=check:saseR.install-out.txt --library=/home/biocbuild/bbs-3.21-bioc/R/site-library --timings saseR_1.3.0.tar.gz StartedAt: 2025-02-21 01:29:07 -0500 (Fri, 21 Feb 2025) EndedAt: 2025-02-21 01:40:27 -0500 (Fri, 21 Feb 2025) EllapsedTime: 679.8 seconds RetCode: 0 Status: WARNINGS CheckDir: saseR.Rcheck Warnings: 1