Package: saseR Version: 1.3.0 Command: /Library/Frameworks/R.framework/Resources/bin/R CMD build --keep-empty-dirs --no-resave-data saseR StartedAt: 2025-02-20 17:28:48 -0500 (Thu, 20 Feb 2025) EndedAt: 2025-02-20 17:30:46 -0500 (Thu, 20 Feb 2025) EllapsedTime: 118.4 seconds RetCode: 0 Status: OK PackageFile: saseR_1.3.0.tar.gz PackageFileSize: 1.207 MiB