Package: sangerseqR Version: 1.43.0 Command: E:\biocbuild\bbs-3.21-bioc\R\bin\R.exe CMD check --no-multiarch --install=check:sangerseqR.install-out.txt --library=E:\biocbuild\bbs-3.21-bioc\R\library --no-vignettes --timings sangerseqR_1.43.0.tar.gz StartedAt: 2025-02-21 05:17:57 -0500 (Fri, 21 Feb 2025) EndedAt: 2025-02-21 05:20:23 -0500 (Fri, 21 Feb 2025) EllapsedTime: 145.7 seconds RetCode: 0 Status: OK CheckDir: sangerseqR.Rcheck Warnings: 0