Package: sangerseqR Version: 1.43.0 Command: rm -rf sangerseqR.buildbin-libdir && mkdir sangerseqR.buildbin-libdir && E:\biocbuild\bbs-3.21-bioc\R\bin\R.exe CMD INSTALL --build --library=sangerseqR.buildbin-libdir sangerseqR_1.43.0.tar.gz StartedAt: 2025-02-21 09:00:01 -0500 (Fri, 21 Feb 2025) EndedAt: 2025-02-21 09:01:01 -0500 (Fri, 21 Feb 2025) EllapsedTime: 60.4 seconds RetCode: 0 Status: OK PackageFile: sangerseqR_1.43.0.zip PackageFileSize: 1.898 MiB