Package: sangerseqR Version: 1.43.0 Command: /home/biocbuild/bbs-3.21-bioc/R/bin/R CMD build --keep-empty-dirs --no-resave-data sangerseqR StartedAt: 2025-02-20 19:04:58 -0500 (Thu, 20 Feb 2025) EndedAt: 2025-02-20 19:05:31 -0500 (Thu, 20 Feb 2025) EllapsedTime: 33.1 seconds RetCode: 0 Status: OK PackageFile: sangerseqR_1.43.0.tar.gz PackageFileSize: 2.847 MiB