Package: sangerseqR Version: 1.43.0 Command: /Library/Frameworks/R.framework/Resources/bin/R CMD INSTALL sangerseqR StartedAt: 2025-02-20 15:25:44 -0500 (Thu, 20 Feb 2025) EndedAt: 2025-02-20 15:26:02 -0500 (Thu, 20 Feb 2025) EllapsedTime: 18.5 seconds RetCode: 0 Status: OK