Package: sangerseqR Version: 1.43.0 Command: /home/biocbuild/R/R/bin/R CMD build --keep-empty-dirs --no-resave-data sangerseqR StartedAt: 2025-01-29 01:56:49 -0000 (Wed, 29 Jan 2025) EndedAt: 2025-01-29 01:57:39 -0000 (Wed, 29 Jan 2025) EllapsedTime: 50.1 seconds RetCode: 0 Status: OK PackageFile: sangerseqR_1.43.0.tar.gz PackageFileSize: 2.125 MiB