Package: sangerseqR Version: 1.43.0 Command: /Library/Frameworks/R.framework/Resources/bin/R CMD INSTALL sangerseqR StartedAt: 2025-02-20 15:16:31 -0500 (Thu, 20 Feb 2025) EndedAt: 2025-02-20 15:16:36 -0500 (Thu, 20 Feb 2025) EllapsedTime: 4.9 seconds RetCode: 0 Status: OK