Package: sangerseqR Version: 1.43.0 Command: /Library/Frameworks/R.framework/Resources/bin/R CMD build --keep-empty-dirs --no-resave-data sangerseqR StartedAt: 2025-02-20 17:28:36 -0500 (Thu, 20 Feb 2025) EndedAt: 2025-02-20 17:28:49 -0500 (Thu, 20 Feb 2025) EllapsedTime: 13.2 seconds RetCode: 0 Status: OK PackageFile: sangerseqR_1.43.0.tar.gz PackageFileSize: 2.934 MiB