Package: sangeranalyseR Version: 1.17.0 Command: chmod a+r sangeranalyseR -R && E:\biocbuild\bbs-3.21-bioc\R\bin\R.exe CMD build --keep-empty-dirs --no-resave-data sangeranalyseR StartedAt: 2025-02-18 21:17:42 -0500 (Tue, 18 Feb 2025) EndedAt: 2025-02-18 21:20:27 -0500 (Tue, 18 Feb 2025) EllapsedTime: 164.6 seconds RetCode: 0 Status: OK PackageFile: sangeranalyseR_1.17.0.tar.gz PackageFileSize: 38.15 MiB