Package: sangeranalyseR Version: 1.17.0 Command: /Library/Frameworks/R.framework/Resources/bin/R CMD INSTALL sangeranalyseR StartedAt: 2025-02-19 15:41:56 -0500 (Wed, 19 Feb 2025) EndedAt: 2025-02-19 15:42:28 -0500 (Wed, 19 Feb 2025) EllapsedTime: 31.9 seconds RetCode: 0 Status: OK