Package: sangeranalyseR Version: 1.17.0 Command: /Library/Frameworks/R.framework/Resources/bin/R CMD build --keep-empty-dirs --no-resave-data sangeranalyseR StartedAt: 2025-02-19 18:05:56 -0500 (Wed, 19 Feb 2025) EndedAt: 2025-02-19 18:06:37 -0500 (Wed, 19 Feb 2025) EllapsedTime: 41.1 seconds RetCode: 0 Status: OK PackageFile: sangeranalyseR_1.17.0.tar.gz PackageFileSize: 38.16 MiB