Package: sampleClassifier Version: 1.31.0 Command: /home/biocbuild/bbs-3.21-bioc/R/bin/R CMD INSTALL sampleClassifier StartedAt: 2025-02-20 15:40:01 -0500 (Thu, 20 Feb 2025) EndedAt: 2025-02-20 15:40:15 -0500 (Thu, 20 Feb 2025) EllapsedTime: 14.6 seconds RetCode: 0 Status: OK