Package: sampleClassifier Version: 1.32.0 Command: /Library/Frameworks/R.framework/Resources/bin/R CMD INSTALL sampleClassifier StartedAt: 2025-10-09 15:51:27 -0400 (Thu, 09 Oct 2025) EndedAt: 2025-10-09 15:52:03 -0400 (Thu, 09 Oct 2025) EllapsedTime: 36.3 seconds RetCode: 0 Status: OK