Package: sampleClassifier Version: 1.32.0 Command: /Library/Frameworks/R.framework/Resources/bin/R CMD build --keep-empty-dirs --no-resave-data sampleClassifier StartedAt: 2025-10-09 22:15:06 -0400 (Thu, 09 Oct 2025) EndedAt: 2025-10-09 22:20:03 -0400 (Thu, 09 Oct 2025) EllapsedTime: 297.0 seconds RetCode: 0 Status: OK PackageFile: sampleClassifier_1.32.0.tar.gz PackageFileSize: 237.9 KiB