Package: sampleClassifier Version: 1.32.0 Command: rm -rf sampleClassifier.buildbin-libdir && mkdir sampleClassifier.buildbin-libdir && /Users/biocbuild/BBS/utils/build-universal.sh sampleClassifier_1.32.0.tar.gz /Library/Frameworks/R.framework/Resources/bin/R sampleClassifier.buildbin-libdir StartedAt: 2025-10-10 14:40:36 -0400 (Fri, 10 Oct 2025) EndedAt: 2025-10-10 14:41:20 -0400 (Fri, 10 Oct 2025) EllapsedTime: 44.4 seconds RetCode: 0 Status: OK PackageFile: sampleClassifier_1.32.0.tgz PackageFileSize: 270 KiB