Package: sampleClassifier Version: 1.31.0 Command: /Library/Frameworks/R.framework/Resources/bin/R CMD INSTALL sampleClassifier StartedAt: 2025-02-20 15:18:32 -0500 (Thu, 20 Feb 2025) EndedAt: 2025-02-20 15:18:55 -0500 (Thu, 20 Feb 2025) EllapsedTime: 22.8 seconds RetCode: 0 Status: OK