Package: sampleClassifier Version: 1.31.0 Command: /Library/Frameworks/R.framework/Resources/bin/R CMD build --keep-empty-dirs --no-resave-data sampleClassifier StartedAt: 2025-02-20 18:05:41 -0500 (Thu, 20 Feb 2025) EndedAt: 2025-02-20 18:08:13 -0500 (Thu, 20 Feb 2025) EllapsedTime: 151.3 seconds RetCode: 0 Status: OK PackageFile: sampleClassifier_1.31.0.tar.gz PackageFileSize: 238.9 KiB