Package: sagenhaft Version: 1.77.0 Command: /home/biocbuild/bbs-3.21-bioc/R/bin/R CMD INSTALL sagenhaft StartedAt: 2025-02-18 15:01:26 -0500 (Tue, 18 Feb 2025) EndedAt: 2025-02-18 15:01:35 -0500 (Tue, 18 Feb 2025) EllapsedTime: 8.7 seconds RetCode: 0 Status: OK