Package: sagenhaft Version: 1.77.0 Command: /Library/Frameworks/R.framework/Resources/bin/R CMD INSTALL sagenhaft StartedAt: 2025-02-18 15:05:30 -0500 (Tue, 18 Feb 2025) EndedAt: 2025-02-18 15:05:55 -0500 (Tue, 18 Feb 2025) EllapsedTime: 24.3 seconds RetCode: 0 Status: OK