Package: sagenhaft Version: 1.77.0 Command: rm -rf sagenhaft.buildbin-libdir && mkdir sagenhaft.buildbin-libdir && /Users/biocbuild/BBS/utils/build-universal.sh sagenhaft_1.77.0.tar.gz /Library/Frameworks/R.framework/Resources/bin/R sagenhaft.buildbin-libdir StartedAt: 2025-02-19 00:44:56 -0500 (Wed, 19 Feb 2025) EndedAt: 2025-02-19 00:45:07 -0500 (Wed, 19 Feb 2025) EllapsedTime: 10.3 seconds RetCode: 0 Status: OK PackageFile: sagenhaft_1.77.0.tgz PackageFileSize: 2.701 MiB