Package: safe Version: 3.47.0 Command: rm -rf safe.buildbin-libdir && mkdir safe.buildbin-libdir && E:\biocbuild\bbs-3.21-bioc\R\bin\R.exe CMD INSTALL --build --library=safe.buildbin-libdir safe_3.47.0.tar.gz StartedAt: 2025-02-19 08:19:13 -0500 (Wed, 19 Feb 2025) EndedAt: 2025-02-19 08:19:37 -0500 (Wed, 19 Feb 2025) EllapsedTime: 24.0 seconds RetCode: 0 Status: OK PackageFile: safe_3.47.0.zip PackageFileSize: 707.4 KiB