Package: safe Version: 3.47.0 Command: /home/biocbuild/bbs-3.21-bioc/R/bin/R CMD INSTALL safe StartedAt: 2025-02-18 15:53:41 -0500 (Tue, 18 Feb 2025) EndedAt: 2025-02-18 15:53:55 -0500 (Tue, 18 Feb 2025) EllapsedTime: 14.6 seconds RetCode: 0 Status: OK