Package: safe Version: 3.47.0 Command: /home/biocbuild/bbs-3.21-bioc/R/bin/R CMD check --install=check:safe.install-out.txt --library=/home/biocbuild/bbs-3.21-bioc/R/site-library --timings safe_3.47.0.tar.gz StartedAt: 2025-02-19 01:46:57 -0500 (Wed, 19 Feb 2025) EndedAt: 2025-02-19 01:51:46 -0500 (Wed, 19 Feb 2025) EllapsedTime: 289.5 seconds RetCode: 0 Status: OK CheckDir: safe.Rcheck Warnings: 0