Package: safe Version: 3.47.0 Command: /home/biocbuild/bbs-3.21-bioc/R/bin/R CMD build --keep-empty-dirs --no-resave-data safe StartedAt: 2025-02-18 18:54:18 -0500 (Tue, 18 Feb 2025) EndedAt: 2025-02-18 18:58:04 -0500 (Tue, 18 Feb 2025) EllapsedTime: 225.4 seconds RetCode: 0 Status: OK PackageFile: safe_3.47.0.tar.gz PackageFileSize: 713.2 KiB