Package: safe Version: 3.47.0 Command: /Library/Frameworks/R.framework/Resources/bin/R CMD INSTALL safe StartedAt: 2025-02-18 15:14:36 -0500 (Tue, 18 Feb 2025) EndedAt: 2025-02-18 15:14:57 -0500 (Tue, 18 Feb 2025) EllapsedTime: 20.8 seconds RetCode: 0 Status: OK