Package: safe Version: 3.47.0 Command: /Library/Frameworks/R.framework/Resources/bin/R CMD build --keep-empty-dirs --no-resave-data safe StartedAt: 2025-02-18 17:30:50 -0500 (Tue, 18 Feb 2025) EndedAt: 2025-02-18 17:32:51 -0500 (Tue, 18 Feb 2025) EllapsedTime: 120.4 seconds RetCode: 0 Status: OK PackageFile: safe_3.47.0.tar.gz PackageFileSize: 713.4 KiB