Package: sSeq Version: 1.45.0 Command: E:\biocbuild\bbs-3.21-bioc\R\bin\R.exe CMD INSTALL sSeq StartedAt: 2025-02-18 15:20:22 -0500 (Tue, 18 Feb 2025) EndedAt: 2025-02-18 15:20:38 -0500 (Tue, 18 Feb 2025) EllapsedTime: 16.2 seconds RetCode: 0 Status: OK