Package: sSeq Version: 1.45.0 Command: /Library/Frameworks/R.framework/Resources/bin/R CMD check --install=check:sSeq.install-out.txt --library=/Library/Frameworks/R.framework/Resources/library --no-vignettes --timings sSeq_1.45.0.tar.gz StartedAt: 2025-02-18 23:28:53 -0500 (Tue, 18 Feb 2025) EndedAt: 2025-02-18 23:31:28 -0500 (Tue, 18 Feb 2025) EllapsedTime: 155.0 seconds RetCode: 0 Status: OK CheckDir: sSeq.Rcheck Warnings: 0