Package: sSeq Version: 1.45.0 Command: /home/biocbuild/R/R/bin/R CMD build --keep-empty-dirs --no-resave-data sSeq StartedAt: 2025-01-28 02:44:49 -0000 (Tue, 28 Jan 2025) EndedAt: 2025-01-28 02:46:40 -0000 (Tue, 28 Jan 2025) EllapsedTime: 111.1 seconds RetCode: 0 Status: OK PackageFile: sSeq_1.45.0.tar.gz PackageFileSize: 4.2 MiB