Package: sSNAPPY Version: 1.11.0 Command: E:\biocbuild\bbs-3.21-bioc\R\bin\R.exe CMD INSTALL sSNAPPY StartedAt: 2025-02-20 16:03:07 -0500 (Thu, 20 Feb 2025) EndedAt: 2025-02-20 16:03:48 -0500 (Thu, 20 Feb 2025) EllapsedTime: 40.4 seconds RetCode: 0 Status: OK