Package: sSNAPPY Version: 1.11.0 Command: rm -rf sSNAPPY.buildbin-libdir && mkdir sSNAPPY.buildbin-libdir && E:\biocbuild\bbs-3.21-bioc\R\bin\R.exe CMD INSTALL --build --library=sSNAPPY.buildbin-libdir sSNAPPY_1.11.0.tar.gz StartedAt: 2025-02-21 09:12:21 -0500 (Fri, 21 Feb 2025) EndedAt: 2025-02-21 09:13:08 -0500 (Fri, 21 Feb 2025) EllapsedTime: 47.1 seconds RetCode: 0 Status: OK PackageFile: sSNAPPY_1.11.0.zip PackageFileSize: 2.396 MiB