Package: sSNAPPY Version: 1.11.0 Command: /home/biocbuild/bbs-3.21-bioc/R/bin/R CMD build --keep-empty-dirs --no-resave-data sSNAPPY StartedAt: 2025-02-20 19:28:46 -0500 (Thu, 20 Feb 2025) EndedAt: 2025-02-20 19:37:44 -0500 (Thu, 20 Feb 2025) EllapsedTime: 538.1 seconds RetCode: 0 Status: OK PackageFile: sSNAPPY_1.11.0.tar.gz PackageFileSize: 4.012 MiB