Package: sRACIPE Version: 1.23.0 Command: /home/biocbuild/bbs-3.21-bioc/R/bin/R CMD INSTALL sRACIPE StartedAt: 2025-02-20 15:26:15 -0500 (Thu, 20 Feb 2025) EndedAt: 2025-02-20 15:26:56 -0500 (Thu, 20 Feb 2025) EllapsedTime: 40.9 seconds RetCode: 0 Status: OK