Package: sRACIPE Version: 1.23.0 Command: /Library/Frameworks/R.framework/Resources/bin/R CMD INSTALL sRACIPE StartedAt: 2025-02-19 15:23:38 -0500 (Wed, 19 Feb 2025) EndedAt: 2025-02-19 15:24:31 -0500 (Wed, 19 Feb 2025) EllapsedTime: 52.5 seconds RetCode: 0 Status: OK