Package: sRACIPE Version: 1.23.0 Command: /Library/Frameworks/R.framework/Resources/bin/R CMD build --keep-empty-dirs --no-resave-data sRACIPE StartedAt: 2025-02-19 18:25:07 -0500 (Wed, 19 Feb 2025) EndedAt: 2025-02-19 18:26:07 -0500 (Wed, 19 Feb 2025) EllapsedTime: 60.5 seconds RetCode: 0 Status: OK PackageFile: sRACIPE_1.23.0.tar.gz PackageFileSize: 1.886 MiB