Package: sRACIPE Version: 1.23.0 Command: rm -rf sRACIPE.buildbin-libdir && mkdir sRACIPE.buildbin-libdir && /Users/biocbuild/BBS/utils/build-universal.sh sRACIPE_1.23.0.tar.gz /Library/Frameworks/R.framework/Resources/bin/R sRACIPE.buildbin-libdir StartedAt: 2025-02-20 00:57:07 -0500 (Thu, 20 Feb 2025) EndedAt: 2025-02-20 00:58:04 -0500 (Thu, 20 Feb 2025) EllapsedTime: 56.9 seconds RetCode: 0 Status: OK PackageFile: sRACIPE_1.23.0.tgz PackageFileSize: 932.4 KiB