Package: sRACIPE Version: 1.23.0 Command: /Library/Frameworks/R.framework/Resources/bin/R CMD INSTALL sRACIPE StartedAt: 2025-02-19 15:15:10 -0500 (Wed, 19 Feb 2025) EndedAt: 2025-02-19 15:15:25 -0500 (Wed, 19 Feb 2025) EllapsedTime: 15.0 seconds RetCode: 0 Status: OK