Package: sRACIPE Version: 1.23.0 Command: rm -rf sRACIPE.buildbin-libdir && mkdir sRACIPE.buildbin-libdir && /Users/biocbuild/BBS/utils/build-universal.sh sRACIPE_1.23.0.tar.gz /Library/Frameworks/R.framework/Resources/bin/R sRACIPE.buildbin-libdir StartedAt: 2025-02-19 22:40:12 -0500 (Wed, 19 Feb 2025) EndedAt: 2025-02-19 22:40:28 -0500 (Wed, 19 Feb 2025) EllapsedTime: 16.5 seconds RetCode: 0 Status: OK PackageFile: sRACIPE_1.23.0.tgz PackageFileSize: 936.8 KiB