Package: runibic Version: 1.29.0 Command: /home/biocbuild/bbs-3.21-bioc/R/bin/R CMD build --keep-empty-dirs --no-resave-data runibic StartedAt: 2025-02-20 19:03:58 -0500 (Thu, 20 Feb 2025) EndedAt: 2025-02-20 19:04:37 -0500 (Thu, 20 Feb 2025) EllapsedTime: 39.2 seconds RetCode: 0 Status: OK PackageFile: runibic_1.29.0.tar.gz PackageFileSize: 44.83 KiB