############################################################################## ############################################################################## ### ### Running command: ### ### rm -rf rtracklayer.buildbin-libdir && mkdir rtracklayer.buildbin-libdir && E:\biocbuild\bbs-3.21-bioc\R\bin\R.exe CMD INSTALL --build --library=rtracklayer.buildbin-libdir rtracklayer_1.67.1.tar.gz ### ############################################################################## ############################################################################## * installing *source* package 'rtracklayer' ... ** this is package 'rtracklayer' version '1.67.1' ** using staged installation ********************************************** WARNING: this package has a configure script It probably needs manual configuration ********************************************** ** libs using C compiler: 'gcc.exe (GCC) 13.3.0' gcc -I"E:/biocbuild/bbs-3.21-bioc/R/include" -DNDEBUG -I'E:/biocbuild/bbs-3.21-bioc/R/library/S4Vectors/include' -I'E:/biocbuild/bbs-3.21-bioc/R/library/IRanges/include' -I'E:/biocbuild/bbs-3.21-bioc/R/library/XVector/include' -I"C:/rtools44/x86_64-w64-mingw32.static.posix/include" -O2 -Wall -mfpmath=sse -msse2 -mstackrealign -c S4Vectors_stubs.c -o S4Vectors_stubs.o gcc -I"E:/biocbuild/bbs-3.21-bioc/R/include" -DNDEBUG -I'E:/biocbuild/bbs-3.21-bioc/R/library/S4Vectors/include' -I'E:/biocbuild/bbs-3.21-bioc/R/library/IRanges/include' -I'E:/biocbuild/bbs-3.21-bioc/R/library/XVector/include' -I"C:/rtools44/x86_64-w64-mingw32.static.posix/include" -O2 -Wall -mfpmath=sse -msse2 -mstackrealign -c IRanges_stubs.c -o IRanges_stubs.o gcc -I"E:/biocbuild/bbs-3.21-bioc/R/include" -DNDEBUG -I'E:/biocbuild/bbs-3.21-bioc/R/library/S4Vectors/include' -I'E:/biocbuild/bbs-3.21-bioc/R/library/IRanges/include' -I'E:/biocbuild/bbs-3.21-bioc/R/library/XVector/include' -I"C:/rtools44/x86_64-w64-mingw32.static.posix/include" -O2 -Wall -mfpmath=sse -msse2 -mstackrealign -c XVector_stubs.c -o XVector_stubs.o gcc -I"E:/biocbuild/bbs-3.21-bioc/R/include" -DNDEBUG -I'E:/biocbuild/bbs-3.21-bioc/R/library/S4Vectors/include' -I'E:/biocbuild/bbs-3.21-bioc/R/library/IRanges/include' -I'E:/biocbuild/bbs-3.21-bioc/R/library/XVector/include' -I"C:/rtools44/x86_64-w64-mingw32.static.posix/include" -O2 -Wall -mfpmath=sse -msse2 -mstackrealign -c R_init_rtracklayer.c -o R_init_rtracklayer.o gcc -I"E:/biocbuild/bbs-3.21-bioc/R/include" -DNDEBUG -I'E:/biocbuild/bbs-3.21-bioc/R/library/S4Vectors/include' -I'E:/biocbuild/bbs-3.21-bioc/R/library/IRanges/include' -I'E:/biocbuild/bbs-3.21-bioc/R/library/XVector/include' -I"C:/rtools44/x86_64-w64-mingw32.static.posix/include" -O2 -Wall -mfpmath=sse -msse2 -mstackrealign -c readGFF.c -o readGFF.o gcc -I"E:/biocbuild/bbs-3.21-bioc/R/include" -DNDEBUG -I'E:/biocbuild/bbs-3.21-bioc/R/library/S4Vectors/include' -I'E:/biocbuild/bbs-3.21-bioc/R/library/IRanges/include' -I'E:/biocbuild/bbs-3.21-bioc/R/library/XVector/include' -I"C:/rtools44/x86_64-w64-mingw32.static.posix/include" -O2 -Wall -mfpmath=sse -msse2 -mstackrealign -c bbiHelper.c -o bbiHelper.o gcc -I"E:/biocbuild/bbs-3.21-bioc/R/include" -DNDEBUG -I'E:/biocbuild/bbs-3.21-bioc/R/library/S4Vectors/include' -I'E:/biocbuild/bbs-3.21-bioc/R/library/IRanges/include' -I'E:/biocbuild/bbs-3.21-bioc/R/library/XVector/include' -I"C:/rtools44/x86_64-w64-mingw32.static.posix/include" -O2 -Wall -mfpmath=sse -msse2 -mstackrealign -c bigWig.c -o bigWig.o bigWig.c: In function 'BWGFile_query': bigWig.c:268:11: warning: 'ans_nhits' may be used uninitialized [-Wmaybe-uninitialized] 268 | INTEGER(ans_nhits)[i] = nqhits; | ^~~~~~~~~~~~~~~~~~ bigWig.c:231:58: note: 'ans_nhits' was declared here 231 | SEXP ans, ans_start, ans_width, ans_score, ans_ranges, ans_nhits; | ^~~~~~~~~ gcc -I"E:/biocbuild/bbs-3.21-bioc/R/include" -DNDEBUG -I'E:/biocbuild/bbs-3.21-bioc/R/library/S4Vectors/include' -I'E:/biocbuild/bbs-3.21-bioc/R/library/IRanges/include' -I'E:/biocbuild/bbs-3.21-bioc/R/library/XVector/include' -I"C:/rtools44/x86_64-w64-mingw32.static.posix/include" -O2 -Wall -mfpmath=sse -msse2 -mstackrealign -c bigBedHelper.c -o bigBedHelper.o bigBedHelper.c: In function 'bbNamedFileChunkKey': bigBedHelper.c:148:3: warning: 'strncpy' destination unchanged after copying no bytes [-Wstringop-truncation] 148 | strncpy(keyBuf,item->name, maxBedNameSize); | ^~~~~~~~~~~~~~~~~~~~~~~~~~~~~~~~~~~~~~~~~~ gcc -I"E:/biocbuild/bbs-3.21-bioc/R/include" -DNDEBUG -I'E:/biocbuild/bbs-3.21-bioc/R/library/S4Vectors/include' -I'E:/biocbuild/bbs-3.21-bioc/R/library/IRanges/include' -I'E:/biocbuild/bbs-3.21-bioc/R/library/XVector/include' -I"C:/rtools44/x86_64-w64-mingw32.static.posix/include" -O2 -Wall -mfpmath=sse -msse2 -mstackrealign -c bigBed.c -o bigBed.o bigBed.c: In function 'BBDFile_query': bigBed.c:195:7: warning: 'name' may be used uninitialized [-Wmaybe-uninitialized] 195 | SET_STRING_ELT(name, i, mkChar(bed->name)); | ^~~~~~~~~~~~~~~~~~~~~~~~~~~~~~~~~~~~~~~~~~ bigBed.c:74:54: note: 'name' was declared here 74 | SEXP ans, n_qhits, ranges, chromStart, chromWidth, name, score, | ^~~~ bigBed.c:198:7: warning: 'score' may be used uninitialized [-Wmaybe-uninitialized] 198 | INTEGER(score)[i] = bed->score; | ^~~~~~~~~~~~~~ bigBed.c:74:60: note: 'score' was declared here 74 | SEXP ans, n_qhits, ranges, chromStart, chromWidth, name, score, | ^~~~~ bigBed.c:205:7: warning: 'thickStart' may be used uninitialized [-Wmaybe-uninitialized] 205 | INTEGER(thickStart)[i] = bed->thickStart; | ^~~~~~~~~~~~~~~~~~~ bigBed.c:75:26: note: 'thickStart' was declared here 75 | strand = R_NilValue, thickStart, thickWidth, itemRgb, blocks, | ^~~~~~~~~~ bigBed.c:204:7: warning: 'thickWidth' may be used uninitialized [-Wmaybe-uninitialized] 204 | INTEGER(thickWidth)[i] = bed->thickEnd - bed->thickStart + 1; | ^~~~~~~~~~~~~~~~~~~ bigBed.c:75:38: note: 'thickWidth' was declared here 75 | strand = R_NilValue, thickStart, thickWidth, itemRgb, blocks, | ^~~~~~~~~~ bigBed.c:209:7: warning: 'itemRgb' may be used uninitialized [-Wmaybe-uninitialized] 209 | SET_STRING_ELT(itemRgb, i, mkChar(rgbBuf)); | ^~~~~~~~~~~~~~~~~~~~~~~~~~~~~~~~~~~~~~~~~~ bigBed.c:75:50: note: 'itemRgb' was declared here 75 | strand = R_NilValue, thickStart, thickWidth, itemRgb, blocks, | ^~~~~~~ bigBed.c:218:7: warning: 'blocks' may be used uninitialized [-Wmaybe-uninitialized] 218 | SET_VECTOR_ELT(blocks, i, new_IRanges("IRanges", bstart, bwidth, R_NilValue)); | ^~~~~~~~~~~~~~~~~~~~~~~~~~~~~~~~~~~~~~~~~~~~~~~~~~~~~~~~~~~~~~~~~~~~~~~~~~~~~ bigBed.c:75:59: note: 'blocks' was declared here 75 | strand = R_NilValue, thickStart, thickWidth, itemRgb, blocks, | ^~~~~~ bigBed.c:236:13: warning: 'lengthIndex' may be used uninitialized [-Wmaybe-uninitialized] 236 | INTEGER(lengthIndex)[efIndex] = index + 1; | ^~~~~~~~~~~~~~~~~~~~ bigBed.c:76:31: note: 'lengthIndex' was declared here 76 | extraFields = R_NilValue, lengthIndex; | ^~~~~~~~~~~ bigBed.c:226:22: warning: 'typeId' may be used uninitialized [-Wmaybe-uninitialized] 226 | switch(typeId[efIndex]) { | ^ bigBed.c:141:13: note: 'typeId' was declared here 141 | SEXPTYPE *typeId; | ^~~~~~ gcc -I"E:/biocbuild/bbs-3.21-bioc/R/include" -DNDEBUG -I'E:/biocbuild/bbs-3.21-bioc/R/library/S4Vectors/include' -I'E:/biocbuild/bbs-3.21-bioc/R/library/IRanges/include' -I'E:/biocbuild/bbs-3.21-bioc/R/library/XVector/include' -I"C:/rtools44/x86_64-w64-mingw32.static.posix/include" -O2 -Wall -mfpmath=sse -msse2 -mstackrealign -c chain_io.c -o chain_io.o gcc -I"E:/biocbuild/bbs-3.21-bioc/R/include" -DNDEBUG -I'E:/biocbuild/bbs-3.21-bioc/R/library/S4Vectors/include' -I'E:/biocbuild/bbs-3.21-bioc/R/library/IRanges/include' -I'E:/biocbuild/bbs-3.21-bioc/R/library/XVector/include' -I"C:/rtools44/x86_64-w64-mingw32.static.posix/include" -O2 -Wall -mfpmath=sse -msse2 -mstackrealign -c twoBit.c -o twoBit.o gcc -I"E:/biocbuild/bbs-3.21-bioc/R/include" -DNDEBUG -I'E:/biocbuild/bbs-3.21-bioc/R/library/S4Vectors/include' -I'E:/biocbuild/bbs-3.21-bioc/R/library/IRanges/include' -I'E:/biocbuild/bbs-3.21-bioc/R/library/XVector/include' -I"C:/rtools44/x86_64-w64-mingw32.static.posix/include" -O2 -Wall -mfpmath=sse -msse2 -mstackrealign -c handlers.c -o handlers.o gcc -I"E:/biocbuild/bbs-3.21-bioc/R/include" -DNDEBUG -I'E:/biocbuild/bbs-3.21-bioc/R/library/S4Vectors/include' -I'E:/biocbuild/bbs-3.21-bioc/R/library/IRanges/include' -I'E:/biocbuild/bbs-3.21-bioc/R/library/XVector/include' -I"C:/rtools44/x86_64-w64-mingw32.static.posix/include" -O2 -Wall -mfpmath=sse -msse2 -mstackrealign -c utils.c -o utils.o gcc -I"E:/biocbuild/bbs-3.21-bioc/R/include" -DNDEBUG -I'E:/biocbuild/bbs-3.21-bioc/R/library/S4Vectors/include' -I'E:/biocbuild/bbs-3.21-bioc/R/library/IRanges/include' -I'E:/biocbuild/bbs-3.21-bioc/R/library/XVector/include' -I"C:/rtools44/x86_64-w64-mingw32.static.posix/include" -O2 -Wall -mfpmath=sse -msse2 -mstackrealign -c ucsc/memgfx.c -o ucsc/memgfx.o gcc -I"E:/biocbuild/bbs-3.21-bioc/R/include" -DNDEBUG -I'E:/biocbuild/bbs-3.21-bioc/R/library/S4Vectors/include' -I'E:/biocbuild/bbs-3.21-bioc/R/library/IRanges/include' -I'E:/biocbuild/bbs-3.21-bioc/R/library/XVector/include' -I"C:/rtools44/x86_64-w64-mingw32.static.posix/include" -O2 -Wall -mfpmath=sse -msse2 -mstackrealign -c ucsc/binRange.c -o ucsc/binRange.o gcc -I"E:/biocbuild/bbs-3.21-bioc/R/include" -DNDEBUG -I'E:/biocbuild/bbs-3.21-bioc/R/library/S4Vectors/include' -I'E:/biocbuild/bbs-3.21-bioc/R/library/IRanges/include' -I'E:/biocbuild/bbs-3.21-bioc/R/library/XVector/include' -I"C:/rtools44/x86_64-w64-mingw32.static.posix/include" -O2 -Wall -mfpmath=sse -msse2 -mstackrealign -c ucsc/htmlColor.c -o ucsc/htmlColor.o gcc -I"E:/biocbuild/bbs-3.21-bioc/R/include" -DNDEBUG -I'E:/biocbuild/bbs-3.21-bioc/R/library/S4Vectors/include' -I'E:/biocbuild/bbs-3.21-bioc/R/library/IRanges/include' -I'E:/biocbuild/bbs-3.21-bioc/R/library/XVector/include' -I"C:/rtools44/x86_64-w64-mingw32.static.posix/include" -O2 -Wall -mfpmath=sse -msse2 -mstackrealign -c ucsc/sqlList.c -o ucsc/sqlList.o gcc -I"E:/biocbuild/bbs-3.21-bioc/R/include" -DNDEBUG -I'E:/biocbuild/bbs-3.21-bioc/R/library/S4Vectors/include' -I'E:/biocbuild/bbs-3.21-bioc/R/library/IRanges/include' -I'E:/biocbuild/bbs-3.21-bioc/R/library/XVector/include' -I"C:/rtools44/x86_64-w64-mingw32.static.posix/include" -O2 -Wall -mfpmath=sse -msse2 -mstackrealign -c ucsc/tokenizer.c -o ucsc/tokenizer.o gcc -I"E:/biocbuild/bbs-3.21-bioc/R/include" -DNDEBUG -I'E:/biocbuild/bbs-3.21-bioc/R/library/S4Vectors/include' -I'E:/biocbuild/bbs-3.21-bioc/R/library/IRanges/include' -I'E:/biocbuild/bbs-3.21-bioc/R/library/XVector/include' -I"C:/rtools44/x86_64-w64-mingw32.static.posix/include" -O2 -Wall -mfpmath=sse -msse2 -mstackrealign -c ucsc/asParse.c -o ucsc/asParse.o gcc -I"E:/biocbuild/bbs-3.21-bioc/R/include" -DNDEBUG -I'E:/biocbuild/bbs-3.21-bioc/R/library/S4Vectors/include' -I'E:/biocbuild/bbs-3.21-bioc/R/library/IRanges/include' -I'E:/biocbuild/bbs-3.21-bioc/R/library/XVector/include' -I"C:/rtools44/x86_64-w64-mingw32.static.posix/include" -O2 -Wall -mfpmath=sse -msse2 -mstackrealign -c ucsc/basicBed.c -o ucsc/basicBed.o ucsc/basicBed.c: In function 'bedParseRgb': ucsc/basicBed.c:449:1: warning: 'strncpy' specified bound 64 equals destination size [-Wstringop-truncation] 449 | strncpy(dupe, itemRgb, sizeof(dupe)); | ^~~~~~~~~~~~~~~~~~~~~~~~~~~~~~~~~~~~ gcc -I"E:/biocbuild/bbs-3.21-bioc/R/include" -DNDEBUG -I'E:/biocbuild/bbs-3.21-bioc/R/library/S4Vectors/include' -I'E:/biocbuild/bbs-3.21-bioc/R/library/IRanges/include' -I'E:/biocbuild/bbs-3.21-bioc/R/library/XVector/include' -I"C:/rtools44/x86_64-w64-mingw32.static.posix/include" -O2 -Wall -mfpmath=sse -msse2 -mstackrealign -c ucsc/bigBed.c -o ucsc/bigBed.o gcc -I"E:/biocbuild/bbs-3.21-bioc/R/include" -DNDEBUG -I'E:/biocbuild/bbs-3.21-bioc/R/library/S4Vectors/include' -I'E:/biocbuild/bbs-3.21-bioc/R/library/IRanges/include' -I'E:/biocbuild/bbs-3.21-bioc/R/library/XVector/include' -I"C:/rtools44/x86_64-w64-mingw32.static.posix/include" -O2 -Wall -mfpmath=sse -msse2 -mstackrealign -c ucsc/bPlusTree.c -o ucsc/bPlusTree.o gcc -I"E:/biocbuild/bbs-3.21-bioc/R/include" -DNDEBUG -I'E:/biocbuild/bbs-3.21-bioc/R/library/S4Vectors/include' -I'E:/biocbuild/bbs-3.21-bioc/R/library/IRanges/include' -I'E:/biocbuild/bbs-3.21-bioc/R/library/XVector/include' -I"C:/rtools44/x86_64-w64-mingw32.static.posix/include" -O2 -Wall -mfpmath=sse -msse2 -mstackrealign -c ucsc/bbiRead.c -o ucsc/bbiRead.o gcc -I"E:/biocbuild/bbs-3.21-bioc/R/include" -DNDEBUG -I'E:/biocbuild/bbs-3.21-bioc/R/library/S4Vectors/include' -I'E:/biocbuild/bbs-3.21-bioc/R/library/IRanges/include' -I'E:/biocbuild/bbs-3.21-bioc/R/library/XVector/include' -I"C:/rtools44/x86_64-w64-mingw32.static.posix/include" -O2 -Wall -mfpmath=sse -msse2 -mstackrealign -c ucsc/bbiWrite.c -o ucsc/bbiWrite.o gcc -I"E:/biocbuild/bbs-3.21-bioc/R/include" -DNDEBUG -I'E:/biocbuild/bbs-3.21-bioc/R/library/S4Vectors/include' -I'E:/biocbuild/bbs-3.21-bioc/R/library/IRanges/include' -I'E:/biocbuild/bbs-3.21-bioc/R/library/XVector/include' -I"C:/rtools44/x86_64-w64-mingw32.static.posix/include" -O2 -Wall -mfpmath=sse -msse2 -mstackrealign -c ucsc/bwgCreate.c -o ucsc/bwgCreate.o gcc -I"E:/biocbuild/bbs-3.21-bioc/R/include" -DNDEBUG -I'E:/biocbuild/bbs-3.21-bioc/R/library/S4Vectors/include' -I'E:/biocbuild/bbs-3.21-bioc/R/library/IRanges/include' -I'E:/biocbuild/bbs-3.21-bioc/R/library/XVector/include' -I"C:/rtools44/x86_64-w64-mingw32.static.posix/include" -O2 -Wall -mfpmath=sse -msse2 -mstackrealign -c ucsc/bwgQuery.c -o ucsc/bwgQuery.o gcc -I"E:/biocbuild/bbs-3.21-bioc/R/include" -DNDEBUG -I'E:/biocbuild/bbs-3.21-bioc/R/library/S4Vectors/include' -I'E:/biocbuild/bbs-3.21-bioc/R/library/IRanges/include' -I'E:/biocbuild/bbs-3.21-bioc/R/library/XVector/include' -I"C:/rtools44/x86_64-w64-mingw32.static.posix/include" -O2 -Wall -mfpmath=sse -msse2 -mstackrealign -c ucsc/cirTree.c -o ucsc/cirTree.o gcc -I"E:/biocbuild/bbs-3.21-bioc/R/include" -DNDEBUG -I'E:/biocbuild/bbs-3.21-bioc/R/library/S4Vectors/include' -I'E:/biocbuild/bbs-3.21-bioc/R/library/IRanges/include' -I'E:/biocbuild/bbs-3.21-bioc/R/library/XVector/include' -I"C:/rtools44/x86_64-w64-mingw32.static.posix/include" -O2 -Wall -mfpmath=sse -msse2 -mstackrealign -c ucsc/common.c -o ucsc/common.o gcc -I"E:/biocbuild/bbs-3.21-bioc/R/include" -DNDEBUG -I'E:/biocbuild/bbs-3.21-bioc/R/library/S4Vectors/include' -I'E:/biocbuild/bbs-3.21-bioc/R/library/IRanges/include' -I'E:/biocbuild/bbs-3.21-bioc/R/library/XVector/include' -I"C:/rtools44/x86_64-w64-mingw32.static.posix/include" -O2 -Wall -mfpmath=sse -msse2 -mstackrealign -c ucsc/dnaseq.c -o ucsc/dnaseq.o gcc -I"E:/biocbuild/bbs-3.21-bioc/R/include" -DNDEBUG -I'E:/biocbuild/bbs-3.21-bioc/R/library/S4Vectors/include' -I'E:/biocbuild/bbs-3.21-bioc/R/library/IRanges/include' -I'E:/biocbuild/bbs-3.21-bioc/R/library/XVector/include' -I"C:/rtools44/x86_64-w64-mingw32.static.posix/include" -O2 -Wall -mfpmath=sse -msse2 -mstackrealign -c ucsc/dnautil.c -o ucsc/dnautil.o gcc -I"E:/biocbuild/bbs-3.21-bioc/R/include" -DNDEBUG -I'E:/biocbuild/bbs-3.21-bioc/R/library/S4Vectors/include' -I'E:/biocbuild/bbs-3.21-bioc/R/library/IRanges/include' -I'E:/biocbuild/bbs-3.21-bioc/R/library/XVector/include' -I"C:/rtools44/x86_64-w64-mingw32.static.posix/include" -O2 -Wall -mfpmath=sse -msse2 -mstackrealign -c ucsc/errAbort.c -o ucsc/errAbort.o gcc -I"E:/biocbuild/bbs-3.21-bioc/R/include" -DNDEBUG -I'E:/biocbuild/bbs-3.21-bioc/R/library/S4Vectors/include' -I'E:/biocbuild/bbs-3.21-bioc/R/library/IRanges/include' -I'E:/biocbuild/bbs-3.21-bioc/R/library/XVector/include' -I"C:/rtools44/x86_64-w64-mingw32.static.posix/include" -O2 -Wall -mfpmath=sse -msse2 -mstackrealign -c ucsc/hash.c -o ucsc/hash.o gcc -I"E:/biocbuild/bbs-3.21-bioc/R/include" -DNDEBUG -I'E:/biocbuild/bbs-3.21-bioc/R/library/S4Vectors/include' -I'E:/biocbuild/bbs-3.21-bioc/R/library/IRanges/include' -I'E:/biocbuild/bbs-3.21-bioc/R/library/XVector/include' -I"C:/rtools44/x86_64-w64-mingw32.static.posix/include" -O2 -Wall -mfpmath=sse -msse2 -mstackrealign -c ucsc/linefile.c -o ucsc/linefile.o ucsc/linefile.c:92:15: warning: 'headerBytes' defined but not used [-Wunused-function] 92 | static char * headerBytes(char *fileName, int numbytes) | ^~~~~~~~~~~ ucsc/linefile.c:35:15: warning: 'getDecompressor' defined but not used [-Wunused-function] 35 | static char **getDecompressor(char *fileName) | ^~~~~~~~~~~~~~~ gcc -I"E:/biocbuild/bbs-3.21-bioc/R/include" -DNDEBUG -I'E:/biocbuild/bbs-3.21-bioc/R/library/S4Vectors/include' -I'E:/biocbuild/bbs-3.21-bioc/R/library/IRanges/include' -I'E:/biocbuild/bbs-3.21-bioc/R/library/XVector/include' -I"C:/rtools44/x86_64-w64-mingw32.static.posix/include" -O2 -Wall -mfpmath=sse -msse2 -mstackrealign -c ucsc/localmem.c -o ucsc/localmem.o gcc -I"E:/biocbuild/bbs-3.21-bioc/R/include" -DNDEBUG -I'E:/biocbuild/bbs-3.21-bioc/R/library/S4Vectors/include' -I'E:/biocbuild/bbs-3.21-bioc/R/library/IRanges/include' -I'E:/biocbuild/bbs-3.21-bioc/R/library/XVector/include' -I"C:/rtools44/x86_64-w64-mingw32.static.posix/include" -O2 -Wall -mfpmath=sse -msse2 -mstackrealign -c ucsc/sqlNum.c -o ucsc/sqlNum.o gcc -I"E:/biocbuild/bbs-3.21-bioc/R/include" -DNDEBUG -I'E:/biocbuild/bbs-3.21-bioc/R/library/S4Vectors/include' -I'E:/biocbuild/bbs-3.21-bioc/R/library/IRanges/include' -I'E:/biocbuild/bbs-3.21-bioc/R/library/XVector/include' -I"C:/rtools44/x86_64-w64-mingw32.static.posix/include" -O2 -Wall -mfpmath=sse -msse2 -mstackrealign -c ucsc/zlibFace.c -o ucsc/zlibFace.o gcc -I"E:/biocbuild/bbs-3.21-bioc/R/include" -DNDEBUG -I'E:/biocbuild/bbs-3.21-bioc/R/library/S4Vectors/include' -I'E:/biocbuild/bbs-3.21-bioc/R/library/IRanges/include' -I'E:/biocbuild/bbs-3.21-bioc/R/library/XVector/include' -I"C:/rtools44/x86_64-w64-mingw32.static.posix/include" -O2 -Wall -mfpmath=sse -msse2 -mstackrealign -c ucsc/dystring.c -o ucsc/dystring.o gcc -I"E:/biocbuild/bbs-3.21-bioc/R/include" -DNDEBUG -I'E:/biocbuild/bbs-3.21-bioc/R/library/S4Vectors/include' -I'E:/biocbuild/bbs-3.21-bioc/R/library/IRanges/include' -I'E:/biocbuild/bbs-3.21-bioc/R/library/XVector/include' -I"C:/rtools44/x86_64-w64-mingw32.static.posix/include" -O2 -Wall -mfpmath=sse -msse2 -mstackrealign -c ucsc/hmmstats.c -o ucsc/hmmstats.o gcc -I"E:/biocbuild/bbs-3.21-bioc/R/include" -DNDEBUG -I'E:/biocbuild/bbs-3.21-bioc/R/library/S4Vectors/include' -I'E:/biocbuild/bbs-3.21-bioc/R/library/IRanges/include' -I'E:/biocbuild/bbs-3.21-bioc/R/library/XVector/include' -I"C:/rtools44/x86_64-w64-mingw32.static.posix/include" -O2 -Wall -mfpmath=sse -msse2 -mstackrealign -c ucsc/obscure.c -o ucsc/obscure.o gcc -I"E:/biocbuild/bbs-3.21-bioc/R/include" -DNDEBUG -I'E:/biocbuild/bbs-3.21-bioc/R/library/S4Vectors/include' -I'E:/biocbuild/bbs-3.21-bioc/R/library/IRanges/include' -I'E:/biocbuild/bbs-3.21-bioc/R/library/XVector/include' -I"C:/rtools44/x86_64-w64-mingw32.static.posix/include" -O2 -Wall -mfpmath=sse -msse2 -mstackrealign -c ucsc/pipeline.c -o ucsc/pipeline.o gcc -I"E:/biocbuild/bbs-3.21-bioc/R/include" -DNDEBUG -I'E:/biocbuild/bbs-3.21-bioc/R/library/S4Vectors/include' -I'E:/biocbuild/bbs-3.21-bioc/R/library/IRanges/include' -I'E:/biocbuild/bbs-3.21-bioc/R/library/XVector/include' -I"C:/rtools44/x86_64-w64-mingw32.static.posix/include" -O2 -Wall -mfpmath=sse -msse2 -mstackrealign -c ucsc/rangeTree.c -o ucsc/rangeTree.o gcc -I"E:/biocbuild/bbs-3.21-bioc/R/include" -DNDEBUG -I'E:/biocbuild/bbs-3.21-bioc/R/library/S4Vectors/include' -I'E:/biocbuild/bbs-3.21-bioc/R/library/IRanges/include' -I'E:/biocbuild/bbs-3.21-bioc/R/library/XVector/include' -I"C:/rtools44/x86_64-w64-mingw32.static.posix/include" -O2 -Wall -mfpmath=sse -msse2 -mstackrealign -c ucsc/rbTree.c -o ucsc/rbTree.o gcc -I"E:/biocbuild/bbs-3.21-bioc/R/include" -DNDEBUG -I'E:/biocbuild/bbs-3.21-bioc/R/library/S4Vectors/include' -I'E:/biocbuild/bbs-3.21-bioc/R/library/IRanges/include' -I'E:/biocbuild/bbs-3.21-bioc/R/library/XVector/include' -I"C:/rtools44/x86_64-w64-mingw32.static.posix/include" -O2 -Wall -mfpmath=sse -msse2 -mstackrealign -c ucsc/memalloc.c -o ucsc/memalloc.o gcc -I"E:/biocbuild/bbs-3.21-bioc/R/include" -DNDEBUG -I'E:/biocbuild/bbs-3.21-bioc/R/library/S4Vectors/include' -I'E:/biocbuild/bbs-3.21-bioc/R/library/IRanges/include' -I'E:/biocbuild/bbs-3.21-bioc/R/library/XVector/include' -I"C:/rtools44/x86_64-w64-mingw32.static.posix/include" -O2 -Wall -mfpmath=sse -msse2 -mstackrealign -c ucsc/dlist.c -o ucsc/dlist.o gcc -I"E:/biocbuild/bbs-3.21-bioc/R/include" -DNDEBUG -I'E:/biocbuild/bbs-3.21-bioc/R/library/S4Vectors/include' -I'E:/biocbuild/bbs-3.21-bioc/R/library/IRanges/include' -I'E:/biocbuild/bbs-3.21-bioc/R/library/XVector/include' -I"C:/rtools44/x86_64-w64-mingw32.static.posix/include" -O2 -Wall -mfpmath=sse -msse2 -mstackrealign -c ucsc/filePath.c -o ucsc/filePath.o gcc -I"E:/biocbuild/bbs-3.21-bioc/R/include" -DNDEBUG -I'E:/biocbuild/bbs-3.21-bioc/R/library/S4Vectors/include' -I'E:/biocbuild/bbs-3.21-bioc/R/library/IRanges/include' -I'E:/biocbuild/bbs-3.21-bioc/R/library/XVector/include' -I"C:/rtools44/x86_64-w64-mingw32.static.posix/include" -O2 -Wall -mfpmath=sse -msse2 -mstackrealign -c ucsc/htmlPage.c -o ucsc/htmlPage.o gcc -I"E:/biocbuild/bbs-3.21-bioc/R/include" -DNDEBUG -I'E:/biocbuild/bbs-3.21-bioc/R/library/S4Vectors/include' -I'E:/biocbuild/bbs-3.21-bioc/R/library/IRanges/include' -I'E:/biocbuild/bbs-3.21-bioc/R/library/XVector/include' -I"C:/rtools44/x86_64-w64-mingw32.static.posix/include" -O2 -Wall -mfpmath=sse -msse2 -mstackrealign -c ucsc/udc.c -o ucsc/udc.o ucsc/udc.c:195:13: warning: 'udcReadAndIgnore' defined but not used [-Wunused-function] 195 | static void udcReadAndIgnore(struct ioStats *ioStats, int sd, bits64 size) | ^~~~~~~~~~~~~~~~ gcc -I"E:/biocbuild/bbs-3.21-bioc/R/include" -DNDEBUG -I'E:/biocbuild/bbs-3.21-bioc/R/library/S4Vectors/include' -I'E:/biocbuild/bbs-3.21-bioc/R/library/IRanges/include' -I'E:/biocbuild/bbs-3.21-bioc/R/library/XVector/include' -I"C:/rtools44/x86_64-w64-mingw32.static.posix/include" -O2 -Wall -mfpmath=sse -msse2 -mstackrealign -c ucsc/net.c -o ucsc/net.o gcc -I"E:/biocbuild/bbs-3.21-bioc/R/include" -DNDEBUG -I'E:/biocbuild/bbs-3.21-bioc/R/library/S4Vectors/include' -I'E:/biocbuild/bbs-3.21-bioc/R/library/IRanges/include' -I'E:/biocbuild/bbs-3.21-bioc/R/library/XVector/include' -I"C:/rtools44/x86_64-w64-mingw32.static.posix/include" -O2 -Wall -mfpmath=sse -msse2 -mstackrealign -c ucsc/bits.c -o ucsc/bits.o gcc -I"E:/biocbuild/bbs-3.21-bioc/R/include" -DNDEBUG -I'E:/biocbuild/bbs-3.21-bioc/R/library/S4Vectors/include' -I'E:/biocbuild/bbs-3.21-bioc/R/library/IRanges/include' -I'E:/biocbuild/bbs-3.21-bioc/R/library/XVector/include' -I"C:/rtools44/x86_64-w64-mingw32.static.posix/include" -O2 -Wall -mfpmath=sse -msse2 -mstackrealign -c ucsc/twoBit.c -o ucsc/twoBit.o gcc -I"E:/biocbuild/bbs-3.21-bioc/R/include" -DNDEBUG -I'E:/biocbuild/bbs-3.21-bioc/R/library/S4Vectors/include' -I'E:/biocbuild/bbs-3.21-bioc/R/library/IRanges/include' -I'E:/biocbuild/bbs-3.21-bioc/R/library/XVector/include' -I"C:/rtools44/x86_64-w64-mingw32.static.posix/include" -O2 -Wall -mfpmath=sse -msse2 -mstackrealign -c ucsc/_cheapcgi.c -o ucsc/_cheapcgi.o gcc -I"E:/biocbuild/bbs-3.21-bioc/R/include" -DNDEBUG -I'E:/biocbuild/bbs-3.21-bioc/R/library/S4Vectors/include' -I'E:/biocbuild/bbs-3.21-bioc/R/library/IRanges/include' -I'E:/biocbuild/bbs-3.21-bioc/R/library/XVector/include' -I"C:/rtools44/x86_64-w64-mingw32.static.posix/include" -O2 -Wall -mfpmath=sse -msse2 -mstackrealign -c ucsc/internet.c -o ucsc/internet.o gcc -I"E:/biocbuild/bbs-3.21-bioc/R/include" -DNDEBUG -I'E:/biocbuild/bbs-3.21-bioc/R/library/S4Vectors/include' -I'E:/biocbuild/bbs-3.21-bioc/R/library/IRanges/include' -I'E:/biocbuild/bbs-3.21-bioc/R/library/XVector/include' -I"C:/rtools44/x86_64-w64-mingw32.static.posix/include" -O2 -Wall -mfpmath=sse -msse2 -mstackrealign -c ucsc/https.c -o ucsc/https.o gcc -I"E:/biocbuild/bbs-3.21-bioc/R/include" -DNDEBUG -I'E:/biocbuild/bbs-3.21-bioc/R/library/S4Vectors/include' -I'E:/biocbuild/bbs-3.21-bioc/R/library/IRanges/include' -I'E:/biocbuild/bbs-3.21-bioc/R/library/XVector/include' -I"C:/rtools44/x86_64-w64-mingw32.static.posix/include" -O2 -Wall -mfpmath=sse -msse2 -mstackrealign -c ucsc/base64.c -o ucsc/base64.o gcc -I"E:/biocbuild/bbs-3.21-bioc/R/include" -DNDEBUG -I'E:/biocbuild/bbs-3.21-bioc/R/library/S4Vectors/include' -I'E:/biocbuild/bbs-3.21-bioc/R/library/IRanges/include' -I'E:/biocbuild/bbs-3.21-bioc/R/library/XVector/include' -I"C:/rtools44/x86_64-w64-mingw32.static.posix/include" -O2 -Wall -mfpmath=sse -msse2 -mstackrealign -c ucsc/verbose.c -o ucsc/verbose.o gcc -I"E:/biocbuild/bbs-3.21-bioc/R/include" -DNDEBUG -I'E:/biocbuild/bbs-3.21-bioc/R/library/S4Vectors/include' -I'E:/biocbuild/bbs-3.21-bioc/R/library/IRanges/include' -I'E:/biocbuild/bbs-3.21-bioc/R/library/XVector/include' -I"C:/rtools44/x86_64-w64-mingw32.static.posix/include" -O2 -Wall -mfpmath=sse -msse2 -mstackrealign -c ucsc/os.c -o ucsc/os.o gcc -I"E:/biocbuild/bbs-3.21-bioc/R/include" -DNDEBUG -I'E:/biocbuild/bbs-3.21-bioc/R/library/S4Vectors/include' -I'E:/biocbuild/bbs-3.21-bioc/R/library/IRanges/include' -I'E:/biocbuild/bbs-3.21-bioc/R/library/XVector/include' -I"C:/rtools44/x86_64-w64-mingw32.static.posix/include" -O2 -Wall -mfpmath=sse -msse2 -mstackrealign -c ucsc/wildcmp.c -o ucsc/wildcmp.o gcc -I"E:/biocbuild/bbs-3.21-bioc/R/include" -DNDEBUG -I'E:/biocbuild/bbs-3.21-bioc/R/library/S4Vectors/include' -I'E:/biocbuild/bbs-3.21-bioc/R/library/IRanges/include' -I'E:/biocbuild/bbs-3.21-bioc/R/library/XVector/include' -I"C:/rtools44/x86_64-w64-mingw32.static.posix/include" -O2 -Wall -mfpmath=sse -msse2 -mstackrealign -c ucsc/_portimpl.c -o ucsc/_portimpl.o gcc -shared -s -static-libgcc -o rtracklayer.dll tmp.def S4Vectors_stubs.o IRanges_stubs.o XVector_stubs.o R_init_rtracklayer.o readGFF.o bbiHelper.o bigWig.o bigBedHelper.o bigBed.o chain_io.o twoBit.o handlers.o utils.o ucsc/memgfx.o ucsc/binRange.o ucsc/htmlColor.o ucsc/sqlList.o ucsc/tokenizer.o ucsc/asParse.o ucsc/basicBed.o ucsc/bigBed.o ucsc/bPlusTree.o ucsc/bbiRead.o ucsc/bbiWrite.o ucsc/bwgCreate.o ucsc/bwgQuery.o ucsc/cirTree.o ucsc/common.o ucsc/dnaseq.o ucsc/dnautil.o ucsc/errAbort.o ucsc/hash.o ucsc/linefile.o ucsc/localmem.o ucsc/sqlNum.o ucsc/zlibFace.o ucsc/dystring.o ucsc/hmmstats.o ucsc/obscure.o ucsc/pipeline.o ucsc/rangeTree.o ucsc/rbTree.o ucsc/memalloc.o ucsc/dlist.o ucsc/filePath.o ucsc/htmlPage.o ucsc/udc.o ucsc/net.o ucsc/bits.o ucsc/twoBit.o ucsc/_cheapcgi.o ucsc/internet.o ucsc/https.o ucsc/base64.o ucsc/verbose.o ucsc/os.o ucsc/wildcmp.o ucsc/_portimpl.o -lcurl -lpsl -lbrotlidec -lbrotlicommon -lssh2 -lssl -lwldap32 -lbcrypt -lcrypto -lgcrypt -lcrypt32 -lgpg-error -lidn2 -lunistring -liconv -lzstd -lws2_32 -lz -LC:/rtools44/x86_64-w64-mingw32.static.posix/lib/x64 -LC:/rtools44/x86_64-w64-mingw32.static.posix/lib -LE:/biocbuild/bbs-3.21-bioc/R/bin/x64 -lR installing to E:/biocbuild/bbs-3.21-bioc/meat/rtracklayer.buildbin-libdir/00LOCK-rtracklayer/00new/rtracklayer/libs/x64 ** R ** data ** demo ** inst ** byte-compile and prepare package for lazy loading Creating a generic function for 'offset' from package 'stats' in package 'rtracklayer' ** help *** installing help indices ** building package indices ** installing vignettes ** testing if installed package can be loaded from temporary location ** testing if installed package can be loaded from final location ** testing if installed package keeps a record of temporary installation path * MD5 sums packaged installation of 'rtracklayer' as rtracklayer_1.67.1.zip * DONE (rtracklayer)