Package: rtracklayer Version: 1.67.1 Command: /home/biocbuild/bbs-3.21-bioc/R/bin/R CMD build --keep-empty-dirs --no-resave-data rtracklayer StartedAt: 2025-02-20 19:03:49 -0500 (Thu, 20 Feb 2025) EndedAt: 2025-02-20 19:05:09 -0500 (Thu, 20 Feb 2025) EllapsedTime: 80.3 seconds RetCode: 0 Status: OK PackageFile: rtracklayer_1.67.1.tar.gz PackageFileSize: 3.908 MiB