Package: rtracklayer Version: 1.67.1 Command: /Library/Frameworks/R.framework/Resources/bin/R CMD build --keep-empty-dirs --no-resave-data rtracklayer StartedAt: 2025-02-20 18:04:40 -0500 (Thu, 20 Feb 2025) EndedAt: 2025-02-20 18:06:16 -0500 (Thu, 20 Feb 2025) EllapsedTime: 96.1 seconds RetCode: 0 Status: OK PackageFile: rtracklayer_1.67.1.tar.gz PackageFileSize: 3.907 MiB