Package: rtracklayer Version: 1.67.1 Command: rm -rf rtracklayer.buildbin-libdir && mkdir rtracklayer.buildbin-libdir && /Users/biocbuild/BBS/utils/build-universal.sh rtracklayer_1.67.1.tar.gz /Library/Frameworks/R.framework/Resources/bin/R rtracklayer.buildbin-libdir StartedAt: 2025-02-21 00:50:40 -0500 (Fri, 21 Feb 2025) EndedAt: 2025-02-21 00:52:09 -0500 (Fri, 21 Feb 2025) EllapsedTime: 88.9 seconds RetCode: 0 Status: OK PackageFile: rtracklayer_1.67.1.tgz PackageFileSize: 7.466 MiB